BEGIN:VCALENDAR
VERSION:2.0
PRODID:icalendar-ruby
CALSCALE:GREGORIAN
METHOD:PUBLISH
BEGIN:VEVENT
DTSTAMP:20260421T123835Z
UID:142-459298@mtcarmelbaptist-eastend.org
DTSTART;VALUE=DATE:20260426
DTEND;VALUE=DATE:20260426
CLASS:PUBLIC
CREATED:20260421T015747
DESCRIPTION:
LAST-MODIFIED:20260421T015747
LOCATION:
SUMMARY:Happy 67th Birthday Pastor Allen
URL;VALUE=URI:https://www.mtcarmelbaptist-eastend.org/events/happy-67th-bir
 thday-pastor-allen/2026-04-26
ATTACH;FILENAME=Untitled-design.png;FMTTYPE=image/png:https://dq5pwpg1q8ru0
 .cloudfront.net/2026/04/21/05/57/06/9a66865a-4e4f-4ab5-a6c4-b78aae048639/U
 ntitled-design.png
END:VEVENT
END:VCALENDAR
